BEGIN:VCALENDAR
VERSION:2.0
PRODID:-//Locust Grove - ECPv6.15.18//NONSGML v1.0//EN
CALSCALE:GREGORIAN
METHOD:PUBLISH
X-ORIGINAL-URL:https://locustgrove.com
X-WR-CALDESC:Events for Locust Grove
REFRESH-INTERVAL;VALUE=DURATION:PT1H
X-Robots-Tag:noindex
X-PUBLISHED-TTL:PT1H
BEGIN:VTIMEZONE
TZID:America/Chicago
BEGIN:DAYLIGHT
TZOFFSETFROM:-0600
TZOFFSETTO:-0500
TZNAME:CDT
DTSTART:20250309T080000
END:DAYLIGHT
BEGIN:STANDARD
TZOFFSETFROM:-0500
TZOFFSETTO:-0600
TZNAME:CST
DTSTART:20251102T070000
END:STANDARD
BEGIN:DAYLIGHT
TZOFFSETFROM:-0600
TZOFFSETTO:-0500
TZNAME:CDT
DTSTART:20260308T080000
END:DAYLIGHT
BEGIN:STANDARD
TZOFFSETFROM:-0500
TZOFFSETTO:-0600
TZNAME:CST
DTSTART:20261101T070000
END:STANDARD
BEGIN:DAYLIGHT
TZOFFSETFROM:-0600
TZOFFSETTO:-0500
TZNAME:CDT
DTSTART:20270314T080000
END:DAYLIGHT
BEGIN:STANDARD
TZOFFSETFROM:-0500
TZOFFSETTO:-0600
TZNAME:CST
DTSTART:20271107T070000
END:STANDARD
END:VTIMEZONE
BEGIN:VEVENT
DTSTART;TZID=America/Chicago:20260503T091500
DTEND;TZID=America/Chicago:20260503T101500
DTSTAMP:20260419T104725
CREATED:20250926T162053Z
LAST-MODIFIED:20250926T162053Z
UID:10009646-1777799700-1777803300@locustgrove.com
SUMMARY:Life Groups
DESCRIPTION:Life Groups for all ages are offered each Sunday morning at 9:15 AM.
URL:https://locustgrove.com/event/life-groups-2/2026-05-03/
LOCATION:Locust Grove Baptist Church\, 171 County Lake Road\, New Market\, AL\, 35761\, United States
ORGANIZER;CN="Locust Grove":MAILTO:hello@locustgrove.com
END:VEVENT
BEGIN:VEVENT
DTSTART;TZID=America/Chicago:20260503T103000
DTEND;TZID=America/Chicago:20260503T113000
DTSTAMP:20260419T104725
CREATED:20240202T194201Z
LAST-MODIFIED:20250926T143305Z
UID:10007841-1777804200-1777807800@locustgrove.com
SUMMARY:Worship
DESCRIPTION:
URL:https://locustgrove.com/event/worship/2026-05-03/
LOCATION:Locust Grove Baptist Church\, 171 County Lake Road\, New Market\, AL\, 35761\, United States
ORGANIZER;CN="Locust Grove":MAILTO:hello@locustgrove.com
END:VEVENT
BEGIN:VEVENT
DTSTART;TZID=America/Chicago:20260505T090000
DTEND;TZID=America/Chicago:20260505T100000
DTSTAMP:20260419T104725
CREATED:20240202T183827Z
LAST-MODIFIED:20250319T214426Z
UID:10007423-1777971600-1777975200@locustgrove.com
SUMMARY:Steady for Life
DESCRIPTION:Steady for Life’s classes are designed to improve the strength and balance of a person. It helps increase flexibility while diminishing the risk of falling. These classes promote confidence in graceful aging. The classes are $25.00 a month.  This class meets in the gym on Tuesdays and Thursdays from 9-10 AM.
URL:https://locustgrove.com/event/steady-for-life/2026-05-05/
LOCATION:Locust Grove Baptist Church\, 171 County Lake Road\, New Market\, AL\, 35761\, United States
CATEGORIES:Community,Senior Adult Ministry,Steady for Life
ORGANIZER;CN="Locust Grove":MAILTO:hello@locustgrove.com
END:VEVENT
BEGIN:VEVENT
DTSTART;TZID=America/Chicago:20260505T100000
DTEND;TZID=America/Chicago:20260505T110000
DTSTAMP:20260419T104725
CREATED:20260114T203032Z
LAST-MODIFIED:20260114T203032Z
UID:10009740-1777975200-1777978800@locustgrove.com
SUMMARY:Weekday Bible Study
DESCRIPTION:
URL:https://locustgrove.com/event/weekday-bible-study/2026-05-05/
LOCATION:Locust Grove Baptist Church\, 171 County Lake Road\, New Market\, AL\, 35761\, United States
ORGANIZER;CN="Locust Grove":MAILTO:hello@locustgrove.com
END:VEVENT
BEGIN:VEVENT
DTSTART;TZID=America/Chicago:20260505T183000
DTEND;TZID=America/Chicago:20260505T203000
DTSTAMP:20260419T104725
CREATED:20240228T202135Z
LAST-MODIFIED:20250319T214150Z
UID:10008204-1778005800-1778013000@locustgrove.com
SUMMARY:Scout Meetings
DESCRIPTION:
URL:https://locustgrove.com/event/scout-meeetings/2026-05-05/
LOCATION:Locust Grove Baptist Church\, 171 County Lake Road\, New Market\, AL\, 35761\, United States
CATEGORIES:Community
ORGANIZER;CN="Locust Grove":MAILTO:hello@locustgrove.com
END:VEVENT
BEGIN:VEVENT
DTSTART;TZID=America/Chicago:20260506T173000
DTEND;TZID=America/Chicago:20260506T183000
DTSTAMP:20260419T104725
CREATED:20250319T220806Z
LAST-MODIFIED:20260114T203406Z
UID:10009450-1778088600-1778092200@locustgrove.com
SUMMARY:Grove Cafe
DESCRIPTION:Join us at 5:30 for food and fellowship.  This is a great time to enjoy a good meal with your church family\, get to know one another\, and fellowship together. Suggested donation prices are $7 for an adult and $3 for children (3-11). There is no charge for children 2 and under. Please make your reservation by noon on Monday.
URL:https://locustgrove.com/event/grove-cafe-3/2026-05-06/
LOCATION:Locust Grove Baptist Church\, 171 County Lake Road\, New Market\, AL\, 35761\, United States
ORGANIZER;CN="Locust Grove":MAILTO:hello@locustgrove.com
END:VEVENT
BEGIN:VEVENT
DTSTART;TZID=America/Chicago:20260506T183000
DTEND;TZID=America/Chicago:20260506T193000
DTSTAMP:20260419T104725
CREATED:20250319T215609Z
LAST-MODIFIED:20260114T203500Z
UID:10009356-1778092200-1778095800@locustgrove.com
SUMMARY:Regular Wednesday Schedule
DESCRIPTION:After the meal at the Grove Cafe\, we will have classes for preschoolers\, children\, youth and adults beginning at 6:30 PM.
URL:https://locustgrove.com/event/regular-wednesday-schedule-3/2026-05-06/
LOCATION:Locust Grove Baptist Church\, 171 County Lake Road\, New Market\, AL\, 35761\, United States
ORGANIZER;CN="Locust Grove":MAILTO:hello@locustgrove.com
END:VEVENT
BEGIN:VEVENT
DTSTART;TZID=America/Chicago:20260507T090000
DTEND;TZID=America/Chicago:20260507T100000
DTSTAMP:20260419T104725
CREATED:20240202T183827Z
LAST-MODIFIED:20250319T214426Z
UID:10007424-1778144400-1778148000@locustgrove.com
SUMMARY:Steady for Life
DESCRIPTION:Steady for Life’s classes are designed to improve the strength and balance of a person. It helps increase flexibility while diminishing the risk of falling. These classes promote confidence in graceful aging. The classes are $25.00 a month.  This class meets in the gym on Tuesdays and Thursdays from 9-10 AM.
URL:https://locustgrove.com/event/steady-for-life/2026-05-07/
LOCATION:Locust Grove Baptist Church\, 171 County Lake Road\, New Market\, AL\, 35761\, United States
CATEGORIES:Community,Senior Adult Ministry,Steady for Life
ORGANIZER;CN="Locust Grove":MAILTO:hello@locustgrove.com
END:VEVENT
BEGIN:VEVENT
DTSTART;TZID=America/Chicago:20260507T173000
DTEND;TZID=America/Chicago:20260507T193000
DTSTAMP:20260419T104725
CREATED:20260306T222503Z
LAST-MODIFIED:20260306T222504Z
UID:10009822-1778175000-1778182200@locustgrove.com
SUMMARY:Girl Scouts
DESCRIPTION:
URL:https://locustgrove.com/event/girl-scouts-3-2/2026-05-07/
LOCATION:Locust Grove Baptist Church\, 171 County Lake Road\, New Market\, AL\, 35761\, United States
ORGANIZER;CN="Locust Grove":MAILTO:hello@locustgrove.com
END:VEVENT
BEGIN:VEVENT
DTSTART;VALUE=DATE:20260510
DTEND;VALUE=DATE:20260511
DTSTAMP:20260419T104725
CREATED:20260305T213937Z
LAST-MODIFIED:20260305T214000Z
UID:10009817-1778371200-1778457599@locustgrove.com
SUMMARY:Mother's Day
DESCRIPTION:
URL:https://locustgrove.com/event/mothers-day-4/
LOCATION:Locust Grove Baptist Church\, 171 County Lake Road\, New Market\, AL\, 35761\, United States
ATTACH;FMTTYPE=image/png:https://locustgrove.com/wp-content/uploads/2025/03/Mothers-Day.png
ORGANIZER;CN="Locust Grove":MAILTO:hello@locustgrove.com
END:VEVENT
BEGIN:VEVENT
DTSTART;TZID=America/Chicago:20260510T091500
DTEND;TZID=America/Chicago:20260510T101500
DTSTAMP:20260419T104725
CREATED:20250926T162053Z
LAST-MODIFIED:20250926T162053Z
UID:10009647-1778404500-1778408100@locustgrove.com
SUMMARY:Life Groups
DESCRIPTION:Life Groups for all ages are offered each Sunday morning at 9:15 AM.
URL:https://locustgrove.com/event/life-groups-2/2026-05-10/
LOCATION:Locust Grove Baptist Church\, 171 County Lake Road\, New Market\, AL\, 35761\, United States
ORGANIZER;CN="Locust Grove":MAILTO:hello@locustgrove.com
END:VEVENT
BEGIN:VEVENT
DTSTART;TZID=America/Chicago:20260510T103000
DTEND;TZID=America/Chicago:20260510T113000
DTSTAMP:20260419T104725
CREATED:20240202T194201Z
LAST-MODIFIED:20250926T143305Z
UID:10007842-1778409000-1778412600@locustgrove.com
SUMMARY:Worship
DESCRIPTION:
URL:https://locustgrove.com/event/worship/2026-05-10/
LOCATION:Locust Grove Baptist Church\, 171 County Lake Road\, New Market\, AL\, 35761\, United States
ORGANIZER;CN="Locust Grove":MAILTO:hello@locustgrove.com
END:VEVENT
BEGIN:VEVENT
DTSTART;TZID=America/Chicago:20260512T090000
DTEND;TZID=America/Chicago:20260512T100000
DTSTAMP:20260419T104725
CREATED:20240202T183827Z
LAST-MODIFIED:20250319T214426Z
UID:10007425-1778576400-1778580000@locustgrove.com
SUMMARY:Steady for Life
DESCRIPTION:Steady for Life’s classes are designed to improve the strength and balance of a person. It helps increase flexibility while diminishing the risk of falling. These classes promote confidence in graceful aging. The classes are $25.00 a month.  This class meets in the gym on Tuesdays and Thursdays from 9-10 AM.
URL:https://locustgrove.com/event/steady-for-life/2026-05-12/
LOCATION:Locust Grove Baptist Church\, 171 County Lake Road\, New Market\, AL\, 35761\, United States
CATEGORIES:Community,Senior Adult Ministry,Steady for Life
ORGANIZER;CN="Locust Grove":MAILTO:hello@locustgrove.com
END:VEVENT
BEGIN:VEVENT
DTSTART;TZID=America/Chicago:20260512T100000
DTEND;TZID=America/Chicago:20260512T110000
DTSTAMP:20260419T104725
CREATED:20260114T203032Z
LAST-MODIFIED:20260114T203032Z
UID:10009741-1778580000-1778583600@locustgrove.com
SUMMARY:Weekday Bible Study
DESCRIPTION:
URL:https://locustgrove.com/event/weekday-bible-study/2026-05-12/
LOCATION:Locust Grove Baptist Church\, 171 County Lake Road\, New Market\, AL\, 35761\, United States
ORGANIZER;CN="Locust Grove":MAILTO:hello@locustgrove.com
END:VEVENT
BEGIN:VEVENT
DTSTART;TZID=America/Chicago:20260512T183000
DTEND;TZID=America/Chicago:20260512T203000
DTSTAMP:20260419T104725
CREATED:20240228T202135Z
LAST-MODIFIED:20250319T214150Z
UID:10008205-1778610600-1778617800@locustgrove.com
SUMMARY:Scout Meetings
DESCRIPTION:
URL:https://locustgrove.com/event/scout-meeetings/2026-05-12/
LOCATION:Locust Grove Baptist Church\, 171 County Lake Road\, New Market\, AL\, 35761\, United States
CATEGORIES:Community
ORGANIZER;CN="Locust Grove":MAILTO:hello@locustgrove.com
END:VEVENT
BEGIN:VEVENT
DTSTART;TZID=America/Chicago:20260513T173000
DTEND;TZID=America/Chicago:20260513T183000
DTSTAMP:20260419T104725
CREATED:20250319T220806Z
LAST-MODIFIED:20260114T203406Z
UID:10009451-1778693400-1778697000@locustgrove.com
SUMMARY:Grove Cafe
DESCRIPTION:Join us at 5:30 for food and fellowship.  This is a great time to enjoy a good meal with your church family\, get to know one another\, and fellowship together. Suggested donation prices are $7 for an adult and $3 for children (3-11). There is no charge for children 2 and under. Please make your reservation by noon on Monday.
URL:https://locustgrove.com/event/grove-cafe-3/2026-05-13/
LOCATION:Locust Grove Baptist Church\, 171 County Lake Road\, New Market\, AL\, 35761\, United States
ORGANIZER;CN="Locust Grove":MAILTO:hello@locustgrove.com
END:VEVENT
BEGIN:VEVENT
DTSTART;TZID=America/Chicago:20260513T183000
DTEND;TZID=America/Chicago:20260513T193000
DTSTAMP:20260419T104725
CREATED:20250319T215609Z
LAST-MODIFIED:20260114T203500Z
UID:10009357-1778697000-1778700600@locustgrove.com
SUMMARY:Regular Wednesday Schedule
DESCRIPTION:After the meal at the Grove Cafe\, we will have classes for preschoolers\, children\, youth and adults beginning at 6:30 PM.
URL:https://locustgrove.com/event/regular-wednesday-schedule-3/2026-05-13/
LOCATION:Locust Grove Baptist Church\, 171 County Lake Road\, New Market\, AL\, 35761\, United States
ORGANIZER;CN="Locust Grove":MAILTO:hello@locustgrove.com
END:VEVENT
BEGIN:VEVENT
DTSTART;TZID=America/Chicago:20260514T090000
DTEND;TZID=America/Chicago:20260514T100000
DTSTAMP:20260419T104725
CREATED:20240202T183827Z
LAST-MODIFIED:20250319T214426Z
UID:10007426-1778749200-1778752800@locustgrove.com
SUMMARY:Steady for Life
DESCRIPTION:Steady for Life’s classes are designed to improve the strength and balance of a person. It helps increase flexibility while diminishing the risk of falling. These classes promote confidence in graceful aging. The classes are $25.00 a month.  This class meets in the gym on Tuesdays and Thursdays from 9-10 AM.
URL:https://locustgrove.com/event/steady-for-life/2026-05-14/
LOCATION:Locust Grove Baptist Church\, 171 County Lake Road\, New Market\, AL\, 35761\, United States
CATEGORIES:Community,Senior Adult Ministry,Steady for Life
ORGANIZER;CN="Locust Grove":MAILTO:hello@locustgrove.com
END:VEVENT
BEGIN:VEVENT
DTSTART;TZID=America/Chicago:20260514T100000
DTEND;TZID=America/Chicago:20260514T103000
DTSTAMP:20260419T104725
CREATED:20260305T214508Z
LAST-MODIFIED:20260305T214508Z
UID:10009818-1778752800-1778754600@locustgrove.com
SUMMARY:Daycare Graduation
DESCRIPTION:Our 2026 Daycare Graduation Ceremony will be Thursday\, May 14th at 10:00 AM in the chapel.
URL:https://locustgrove.com/event/daycare-graduation/
LOCATION:Locust Grove Baptist Church\, 171 County Lake Road\, New Market\, AL\, 35761\, United States
CATEGORIES:Daycare
END:VEVENT
BEGIN:VEVENT
DTSTART;TZID=America/Chicago:20260514T100000
DTEND;TZID=America/Chicago:20260514T140000
DTSTAMP:20260419T104725
CREATED:20260115T165850Z
LAST-MODIFIED:20260305T163308Z
UID:10009751-1778752800-1778767200@locustgrove.com
SUMMARY:Sassy Seniors Potluck Lunch
DESCRIPTION:Our Sassy Seniors meet for a Potluck Lunch on the 2nd Thursday of each month from 10AM – 2PM in the fellowship hall. Everyone age 50+ is invited to attend.
URL:https://locustgrove.com/event/sassy-seniors-potluck-lunch-4/2026-05-14/
LOCATION:Locust Grove Baptist Church\, 171 County Lake Road\, New Market\, AL\, 35761\, United States
CATEGORIES:Senior Adult Ministry
ORGANIZER;CN="Locust Grove":MAILTO:hello@locustgrove.com
END:VEVENT
BEGIN:VEVENT
DTSTART;TZID=America/Chicago:20260517T091500
DTEND;TZID=America/Chicago:20260517T101500
DTSTAMP:20260419T104725
CREATED:20250926T162053Z
LAST-MODIFIED:20250926T162053Z
UID:10009648-1779009300-1779012900@locustgrove.com
SUMMARY:Life Groups
DESCRIPTION:Life Groups for all ages are offered each Sunday morning at 9:15 AM.
URL:https://locustgrove.com/event/life-groups-2/2026-05-17/
LOCATION:Locust Grove Baptist Church\, 171 County Lake Road\, New Market\, AL\, 35761\, United States
ORGANIZER;CN="Locust Grove":MAILTO:hello@locustgrove.com
END:VEVENT
BEGIN:VEVENT
DTSTART;TZID=America/Chicago:20260517T103000
DTEND;TZID=America/Chicago:20260517T113000
DTSTAMP:20260419T104725
CREATED:20240202T194201Z
LAST-MODIFIED:20250926T143305Z
UID:10007843-1779013800-1779017400@locustgrove.com
SUMMARY:Worship
DESCRIPTION:
URL:https://locustgrove.com/event/worship/2026-05-17/
LOCATION:Locust Grove Baptist Church\, 171 County Lake Road\, New Market\, AL\, 35761\, United States
ORGANIZER;CN="Locust Grove":MAILTO:hello@locustgrove.com
END:VEVENT
BEGIN:VEVENT
DTSTART;TZID=America/Chicago:20260519T090000
DTEND;TZID=America/Chicago:20260519T100000
DTSTAMP:20260419T104725
CREATED:20240202T183827Z
LAST-MODIFIED:20250319T214426Z
UID:10007427-1779181200-1779184800@locustgrove.com
SUMMARY:Steady for Life
DESCRIPTION:Steady for Life’s classes are designed to improve the strength and balance of a person. It helps increase flexibility while diminishing the risk of falling. These classes promote confidence in graceful aging. The classes are $25.00 a month.  This class meets in the gym on Tuesdays and Thursdays from 9-10 AM.
URL:https://locustgrove.com/event/steady-for-life/2026-05-19/
LOCATION:Locust Grove Baptist Church\, 171 County Lake Road\, New Market\, AL\, 35761\, United States
CATEGORIES:Community,Senior Adult Ministry,Steady for Life
ORGANIZER;CN="Locust Grove":MAILTO:hello@locustgrove.com
END:VEVENT
BEGIN:VEVENT
DTSTART;TZID=America/Chicago:20260519T183000
DTEND;TZID=America/Chicago:20260519T203000
DTSTAMP:20260419T104725
CREATED:20240228T202135Z
LAST-MODIFIED:20250319T214150Z
UID:10008206-1779215400-1779222600@locustgrove.com
SUMMARY:Scout Meetings
DESCRIPTION:
URL:https://locustgrove.com/event/scout-meeetings/2026-05-19/
LOCATION:Locust Grove Baptist Church\, 171 County Lake Road\, New Market\, AL\, 35761\, United States
CATEGORIES:Community
ORGANIZER;CN="Locust Grove":MAILTO:hello@locustgrove.com
END:VEVENT
BEGIN:VEVENT
DTSTART;TZID=America/Chicago:20260521T090000
DTEND;TZID=America/Chicago:20260521T100000
DTSTAMP:20260419T104725
CREATED:20240202T183827Z
LAST-MODIFIED:20250319T214426Z
UID:10007428-1779354000-1779357600@locustgrove.com
SUMMARY:Steady for Life
DESCRIPTION:Steady for Life’s classes are designed to improve the strength and balance of a person. It helps increase flexibility while diminishing the risk of falling. These classes promote confidence in graceful aging. The classes are $25.00 a month.  This class meets in the gym on Tuesdays and Thursdays from 9-10 AM.
URL:https://locustgrove.com/event/steady-for-life/2026-05-21/
LOCATION:Locust Grove Baptist Church\, 171 County Lake Road\, New Market\, AL\, 35761\, United States
CATEGORIES:Community,Senior Adult Ministry,Steady for Life
ORGANIZER;CN="Locust Grove":MAILTO:hello@locustgrove.com
END:VEVENT
BEGIN:VEVENT
DTSTART;TZID=America/Chicago:20260521T173000
DTEND;TZID=America/Chicago:20260521T193000
DTSTAMP:20260419T104725
CREATED:20260306T152547Z
LAST-MODIFIED:20260306T222344Z
UID:10009839-1779384600-1779391800@locustgrove.com
SUMMARY:Girl Scouts
DESCRIPTION:
URL:https://locustgrove.com/event/girl-scouts-7/
LOCATION:Locust Grove Baptist Church\, 171 County Lake Road\, New Market\, AL\, 35761\, United States
ORGANIZER;CN="Locust Grove":MAILTO:hello@locustgrove.com
END:VEVENT
BEGIN:VEVENT
DTSTART;TZID=America/Chicago:20260524T091500
DTEND;TZID=America/Chicago:20260524T101500
DTSTAMP:20260419T104725
CREATED:20250926T162053Z
LAST-MODIFIED:20250926T162053Z
UID:10009649-1779614100-1779617700@locustgrove.com
SUMMARY:Life Groups
DESCRIPTION:Life Groups for all ages are offered each Sunday morning at 9:15 AM.
URL:https://locustgrove.com/event/life-groups-2/2026-05-24/
LOCATION:Locust Grove Baptist Church\, 171 County Lake Road\, New Market\, AL\, 35761\, United States
ORGANIZER;CN="Locust Grove":MAILTO:hello@locustgrove.com
END:VEVENT
BEGIN:VEVENT
DTSTART;TZID=America/Chicago:20260524T103000
DTEND;TZID=America/Chicago:20260524T113000
DTSTAMP:20260419T104725
CREATED:20240202T194201Z
LAST-MODIFIED:20250926T143305Z
UID:10007844-1779618600-1779622200@locustgrove.com
SUMMARY:Worship
DESCRIPTION:
URL:https://locustgrove.com/event/worship/2026-05-24/
LOCATION:Locust Grove Baptist Church\, 171 County Lake Road\, New Market\, AL\, 35761\, United States
ORGANIZER;CN="Locust Grove":MAILTO:hello@locustgrove.com
END:VEVENT
BEGIN:VEVENT
DTSTART;VALUE=DATE:20260525
DTEND;VALUE=DATE:20260526
DTSTAMP:20260419T104725
CREATED:20260305T214906Z
LAST-MODIFIED:20260305T215238Z
UID:10009819-1779667200-1779753599@locustgrove.com
SUMMARY:Memorial Day
DESCRIPTION:The Church Office and Daycare Center will be closed on Monday\, May 25th\, for Memorial Day.
URL:https://locustgrove.com/event/memorial-day-church-office-daycare-center-closed-2/
LOCATION:Locust Grove Baptist Church\, 171 County Lake Road\, New Market\, AL\, 35761\, United States
CATEGORIES:Administrative
ATTACH;FMTTYPE=image/jpeg:https://locustgrove.com/wp-content/uploads/2023/02/Memorial-Day.jpg
ORGANIZER;CN="Locust Grove":MAILTO:hello@locustgrove.com
END:VEVENT
BEGIN:VEVENT
DTSTART;TZID=America/Chicago:20260526T090000
DTEND;TZID=America/Chicago:20260526T100000
DTSTAMP:20260419T104725
CREATED:20240202T183827Z
LAST-MODIFIED:20250319T214426Z
UID:10007429-1779786000-1779789600@locustgrove.com
SUMMARY:Steady for Life
DESCRIPTION:Steady for Life’s classes are designed to improve the strength and balance of a person. It helps increase flexibility while diminishing the risk of falling. These classes promote confidence in graceful aging. The classes are $25.00 a month.  This class meets in the gym on Tuesdays and Thursdays from 9-10 AM.
URL:https://locustgrove.com/event/steady-for-life/2026-05-26/
LOCATION:Locust Grove Baptist Church\, 171 County Lake Road\, New Market\, AL\, 35761\, United States
CATEGORIES:Community,Senior Adult Ministry,Steady for Life
ORGANIZER;CN="Locust Grove":MAILTO:hello@locustgrove.com
END:VEVENT
END:VCALENDAR