BEGIN:VCALENDAR
VERSION:2.0
PRODID:-//Locust Grove - ECPv6.15.18//NONSGML v1.0//EN
CALSCALE:GREGORIAN
METHOD:PUBLISH
X-WR-CALNAME:Locust Grove
X-ORIGINAL-URL:https://locustgrove.com
X-WR-CALDESC:Events for Locust Grove
REFRESH-INTERVAL;VALUE=DURATION:PT1H
X-Robots-Tag:noindex
X-PUBLISHED-TTL:PT1H
BEGIN:VTIMEZONE
TZID:America/Chicago
BEGIN:DAYLIGHT
TZOFFSETFROM:-0600
TZOFFSETTO:-0500
TZNAME:CDT
DTSTART:20250309T080000
END:DAYLIGHT
BEGIN:STANDARD
TZOFFSETFROM:-0500
TZOFFSETTO:-0600
TZNAME:CST
DTSTART:20251102T070000
END:STANDARD
BEGIN:DAYLIGHT
TZOFFSETFROM:-0600
TZOFFSETTO:-0500
TZNAME:CDT
DTSTART:20260308T080000
END:DAYLIGHT
BEGIN:STANDARD
TZOFFSETFROM:-0500
TZOFFSETTO:-0600
TZNAME:CST
DTSTART:20261101T070000
END:STANDARD
BEGIN:DAYLIGHT
TZOFFSETFROM:-0600
TZOFFSETTO:-0500
TZNAME:CDT
DTSTART:20270314T080000
END:DAYLIGHT
BEGIN:STANDARD
TZOFFSETFROM:-0500
TZOFFSETTO:-0600
TZNAME:CST
DTSTART:20271107T070000
END:STANDARD
END:VTIMEZONE
BEGIN:VEVENT
DTSTART;TZID=America/Chicago:20260421T090000
DTEND;TZID=America/Chicago:20260421T100000
DTSTAMP:20260420T050001
CREATED:20240202T183827Z
LAST-MODIFIED:20250319T214426Z
UID:10007419-1776762000-1776765600@locustgrove.com
SUMMARY:Steady for Life
DESCRIPTION:Steady for Life’s classes are designed to improve the strength and balance of a person. It helps increase flexibility while diminishing the risk of falling. These classes promote confidence in graceful aging. The classes are $25.00 a month.  This class meets in the gym on Tuesdays and Thursdays from 9-10 AM.
URL:https://locustgrove.com/event/steady-for-life/2026-04-21/
LOCATION:Locust Grove Baptist Church\, 171 County Lake Road\, New Market\, AL\, 35761\, United States
CATEGORIES:Community,Senior Adult Ministry,Steady for Life
ORGANIZER;CN="Locust Grove":MAILTO:hello@locustgrove.com
END:VEVENT
BEGIN:VEVENT
DTSTART;TZID=America/Chicago:20260423T090000
DTEND;TZID=America/Chicago:20260423T100000
DTSTAMP:20260420T050001
CREATED:20240202T183827Z
LAST-MODIFIED:20250319T214426Z
UID:10007420-1776934800-1776938400@locustgrove.com
SUMMARY:Steady for Life
DESCRIPTION:Steady for Life’s classes are designed to improve the strength and balance of a person. It helps increase flexibility while diminishing the risk of falling. These classes promote confidence in graceful aging. The classes are $25.00 a month.  This class meets in the gym on Tuesdays and Thursdays from 9-10 AM.
URL:https://locustgrove.com/event/steady-for-life/2026-04-23/
LOCATION:Locust Grove Baptist Church\, 171 County Lake Road\, New Market\, AL\, 35761\, United States
CATEGORIES:Community,Senior Adult Ministry,Steady for Life
ORGANIZER;CN="Locust Grove":MAILTO:hello@locustgrove.com
END:VEVENT
BEGIN:VEVENT
DTSTART;TZID=America/Chicago:20260428T090000
DTEND;TZID=America/Chicago:20260428T100000
DTSTAMP:20260420T050001
CREATED:20240202T183827Z
LAST-MODIFIED:20250319T214426Z
UID:10007421-1777366800-1777370400@locustgrove.com
SUMMARY:Steady for Life
DESCRIPTION:Steady for Life’s classes are designed to improve the strength and balance of a person. It helps increase flexibility while diminishing the risk of falling. These classes promote confidence in graceful aging. The classes are $25.00 a month.  This class meets in the gym on Tuesdays and Thursdays from 9-10 AM.
URL:https://locustgrove.com/event/steady-for-life/2026-04-28/
LOCATION:Locust Grove Baptist Church\, 171 County Lake Road\, New Market\, AL\, 35761\, United States
CATEGORIES:Community,Senior Adult Ministry,Steady for Life
ORGANIZER;CN="Locust Grove":MAILTO:hello@locustgrove.com
END:VEVENT
BEGIN:VEVENT
DTSTART;TZID=America/Chicago:20260430T090000
DTEND;TZID=America/Chicago:20260430T100000
DTSTAMP:20260420T050001
CREATED:20240202T183827Z
LAST-MODIFIED:20250319T214426Z
UID:10007422-1777539600-1777543200@locustgrove.com
SUMMARY:Steady for Life
DESCRIPTION:Steady for Life’s classes are designed to improve the strength and balance of a person. It helps increase flexibility while diminishing the risk of falling. These classes promote confidence in graceful aging. The classes are $25.00 a month.  This class meets in the gym on Tuesdays and Thursdays from 9-10 AM.
URL:https://locustgrove.com/event/steady-for-life/2026-04-30/
LOCATION:Locust Grove Baptist Church\, 171 County Lake Road\, New Market\, AL\, 35761\, United States
CATEGORIES:Community,Senior Adult Ministry,Steady for Life
ORGANIZER;CN="Locust Grove":MAILTO:hello@locustgrove.com
END:VEVENT
END:VCALENDAR