BEGIN:VCALENDAR
VERSION:2.0
PRODID:-//Locust Grove - ECPv6.15.18//NONSGML v1.0//EN
CALSCALE:GREGORIAN
METHOD:PUBLISH
X-WR-CALNAME:Locust Grove
X-ORIGINAL-URL:https://locustgrove.com
X-WR-CALDESC:Events for Locust Grove
REFRESH-INTERVAL;VALUE=DURATION:PT1H
X-Robots-Tag:noindex
X-PUBLISHED-TTL:PT1H
BEGIN:VTIMEZONE
TZID:America/Chicago
BEGIN:DAYLIGHT
TZOFFSETFROM:-0600
TZOFFSETTO:-0500
TZNAME:CDT
DTSTART:20240310T080000
END:DAYLIGHT
BEGIN:STANDARD
TZOFFSETFROM:-0500
TZOFFSETTO:-0600
TZNAME:CST
DTSTART:20241103T070000
END:STANDARD
BEGIN:DAYLIGHT
TZOFFSETFROM:-0600
TZOFFSETTO:-0500
TZNAME:CDT
DTSTART:20250309T080000
END:DAYLIGHT
BEGIN:STANDARD
TZOFFSETFROM:-0500
TZOFFSETTO:-0600
TZNAME:CST
DTSTART:20251102T070000
END:STANDARD
BEGIN:DAYLIGHT
TZOFFSETFROM:-0600
TZOFFSETTO:-0500
TZNAME:CDT
DTSTART:20260308T080000
END:DAYLIGHT
BEGIN:STANDARD
TZOFFSETFROM:-0500
TZOFFSETTO:-0600
TZNAME:CST
DTSTART:20261101T070000
END:STANDARD
END:VTIMEZONE
BEGIN:VEVENT
DTSTART;TZID=America/Chicago:20250501T090000
DTEND;TZID=America/Chicago:20250501T100000
DTSTAMP:20260419T103419
CREATED:20240202T183827Z
LAST-MODIFIED:20250319T214426Z
UID:10007318-1746090000-1746093600@locustgrove.com
SUMMARY:Steady for Life
DESCRIPTION:Steady for Life’s classes are designed to improve the strength and balance of a person. It helps increase flexibility while diminishing the risk of falling. These classes promote confidence in graceful aging. The classes are $25.00 a month.  This class meets in the gym on Tuesdays and Thursdays from 9-10 AM.
URL:https://locustgrove.com/event/steady-for-life/2025-05-01/
LOCATION:Locust Grove Baptist Church\, 171 County Lake Road\, New Market\, AL\, 35761\, United States
CATEGORIES:Community,Senior Adult Ministry,Steady for Life
ORGANIZER;CN="Locust Grove":MAILTO:hello@locustgrove.com
END:VEVENT
BEGIN:VEVENT
DTSTART;TZID=America/Chicago:20250501T173000
DTEND;TZID=America/Chicago:20250501T190000
DTSTAMP:20260419T103419
CREATED:20240228T221400Z
LAST-MODIFIED:20240228T221400Z
UID:10008769-1746120600-1746126000@locustgrove.com
SUMMARY:Girl Scouts
DESCRIPTION:
URL:https://locustgrove.com/event/girl-scouts-2/2025-05-01/
LOCATION:Locust Grove Baptist Church\, 171 County Lake Road\, New Market\, AL\, 35761\, United States
CATEGORIES:Community
ORGANIZER;CN="Locust Grove":MAILTO:hello@locustgrove.com
END:VEVENT
BEGIN:VEVENT
DTSTART;TZID=America/Chicago:20250506T090000
DTEND;TZID=America/Chicago:20250506T100000
DTSTAMP:20260419T103419
CREATED:20240202T183827Z
LAST-MODIFIED:20250319T214426Z
UID:10007319-1746522000-1746525600@locustgrove.com
SUMMARY:Steady for Life
DESCRIPTION:Steady for Life’s classes are designed to improve the strength and balance of a person. It helps increase flexibility while diminishing the risk of falling. These classes promote confidence in graceful aging. The classes are $25.00 a month.  This class meets in the gym on Tuesdays and Thursdays from 9-10 AM.
URL:https://locustgrove.com/event/steady-for-life/2025-05-06/
LOCATION:Locust Grove Baptist Church\, 171 County Lake Road\, New Market\, AL\, 35761\, United States
CATEGORIES:Community,Senior Adult Ministry,Steady for Life
ORGANIZER;CN="Locust Grove":MAILTO:hello@locustgrove.com
END:VEVENT
BEGIN:VEVENT
DTSTART;TZID=America/Chicago:20250506T183000
DTEND;TZID=America/Chicago:20250506T203000
DTSTAMP:20260419T103419
CREATED:20240228T202135Z
LAST-MODIFIED:20250319T214150Z
UID:10008152-1746556200-1746563400@locustgrove.com
SUMMARY:Scout Meetings
DESCRIPTION:
URL:https://locustgrove.com/event/scout-meeetings/2025-05-06/
LOCATION:Locust Grove Baptist Church\, 171 County Lake Road\, New Market\, AL\, 35761\, United States
CATEGORIES:Community
ORGANIZER;CN="Locust Grove":MAILTO:hello@locustgrove.com
END:VEVENT
BEGIN:VEVENT
DTSTART;TZID=America/Chicago:20250508T090000
DTEND;TZID=America/Chicago:20250508T100000
DTSTAMP:20260419T103419
CREATED:20240202T183827Z
LAST-MODIFIED:20250319T214426Z
UID:10007320-1746694800-1746698400@locustgrove.com
SUMMARY:Steady for Life
DESCRIPTION:Steady for Life’s classes are designed to improve the strength and balance of a person. It helps increase flexibility while diminishing the risk of falling. These classes promote confidence in graceful aging. The classes are $25.00 a month.  This class meets in the gym on Tuesdays and Thursdays from 9-10 AM.
URL:https://locustgrove.com/event/steady-for-life/2025-05-08/
LOCATION:Locust Grove Baptist Church\, 171 County Lake Road\, New Market\, AL\, 35761\, United States
CATEGORIES:Community,Senior Adult Ministry,Steady for Life
ORGANIZER;CN="Locust Grove":MAILTO:hello@locustgrove.com
END:VEVENT
BEGIN:VEVENT
DTSTART;TZID=America/Chicago:20250508T173000
DTEND;TZID=America/Chicago:20250508T190000
DTSTAMP:20260419T103419
CREATED:20240228T221400Z
LAST-MODIFIED:20240228T221400Z
UID:10008770-1746725400-1746730800@locustgrove.com
SUMMARY:Girl Scouts
DESCRIPTION:
URL:https://locustgrove.com/event/girl-scouts-2/2025-05-08/
LOCATION:Locust Grove Baptist Church\, 171 County Lake Road\, New Market\, AL\, 35761\, United States
CATEGORIES:Community
ORGANIZER;CN="Locust Grove":MAILTO:hello@locustgrove.com
END:VEVENT
BEGIN:VEVENT
DTSTART;TZID=America/Chicago:20250513T090000
DTEND;TZID=America/Chicago:20250513T100000
DTSTAMP:20260419T103419
CREATED:20240202T183827Z
LAST-MODIFIED:20250319T214426Z
UID:10007321-1747126800-1747130400@locustgrove.com
SUMMARY:Steady for Life
DESCRIPTION:Steady for Life’s classes are designed to improve the strength and balance of a person. It helps increase flexibility while diminishing the risk of falling. These classes promote confidence in graceful aging. The classes are $25.00 a month.  This class meets in the gym on Tuesdays and Thursdays from 9-10 AM.
URL:https://locustgrove.com/event/steady-for-life/2025-05-13/
LOCATION:Locust Grove Baptist Church\, 171 County Lake Road\, New Market\, AL\, 35761\, United States
CATEGORIES:Community,Senior Adult Ministry,Steady for Life
ORGANIZER;CN="Locust Grove":MAILTO:hello@locustgrove.com
END:VEVENT
BEGIN:VEVENT
DTSTART;TZID=America/Chicago:20250513T183000
DTEND;TZID=America/Chicago:20250513T203000
DTSTAMP:20260419T103419
CREATED:20240228T202135Z
LAST-MODIFIED:20250319T214150Z
UID:10008153-1747161000-1747168200@locustgrove.com
SUMMARY:Scout Meetings
DESCRIPTION:
URL:https://locustgrove.com/event/scout-meeetings/2025-05-13/
LOCATION:Locust Grove Baptist Church\, 171 County Lake Road\, New Market\, AL\, 35761\, United States
CATEGORIES:Community
ORGANIZER;CN="Locust Grove":MAILTO:hello@locustgrove.com
END:VEVENT
BEGIN:VEVENT
DTSTART;TZID=America/Chicago:20250515T090000
DTEND;TZID=America/Chicago:20250515T100000
DTSTAMP:20260419T103419
CREATED:20240202T183827Z
LAST-MODIFIED:20250319T214426Z
UID:10007322-1747299600-1747303200@locustgrove.com
SUMMARY:Steady for Life
DESCRIPTION:Steady for Life’s classes are designed to improve the strength and balance of a person. It helps increase flexibility while diminishing the risk of falling. These classes promote confidence in graceful aging. The classes are $25.00 a month.  This class meets in the gym on Tuesdays and Thursdays from 9-10 AM.
URL:https://locustgrove.com/event/steady-for-life/2025-05-15/
LOCATION:Locust Grove Baptist Church\, 171 County Lake Road\, New Market\, AL\, 35761\, United States
CATEGORIES:Community,Senior Adult Ministry,Steady for Life
ORGANIZER;CN="Locust Grove":MAILTO:hello@locustgrove.com
END:VEVENT
BEGIN:VEVENT
DTSTART;TZID=America/Chicago:20250515T173000
DTEND;TZID=America/Chicago:20250515T190000
DTSTAMP:20260419T103419
CREATED:20240228T221400Z
LAST-MODIFIED:20240228T221400Z
UID:10008771-1747330200-1747335600@locustgrove.com
SUMMARY:Girl Scouts
DESCRIPTION:
URL:https://locustgrove.com/event/girl-scouts-2/2025-05-15/
LOCATION:Locust Grove Baptist Church\, 171 County Lake Road\, New Market\, AL\, 35761\, United States
CATEGORIES:Community
ORGANIZER;CN="Locust Grove":MAILTO:hello@locustgrove.com
END:VEVENT
BEGIN:VEVENT
DTSTART;TZID=America/Chicago:20250520T090000
DTEND;TZID=America/Chicago:20250520T100000
DTSTAMP:20260419T103419
CREATED:20240202T183827Z
LAST-MODIFIED:20250319T214426Z
UID:10007323-1747731600-1747735200@locustgrove.com
SUMMARY:Steady for Life
DESCRIPTION:Steady for Life’s classes are designed to improve the strength and balance of a person. It helps increase flexibility while diminishing the risk of falling. These classes promote confidence in graceful aging. The classes are $25.00 a month.  This class meets in the gym on Tuesdays and Thursdays from 9-10 AM.
URL:https://locustgrove.com/event/steady-for-life/2025-05-20/
LOCATION:Locust Grove Baptist Church\, 171 County Lake Road\, New Market\, AL\, 35761\, United States
CATEGORIES:Community,Senior Adult Ministry,Steady for Life
ORGANIZER;CN="Locust Grove":MAILTO:hello@locustgrove.com
END:VEVENT
BEGIN:VEVENT
DTSTART;TZID=America/Chicago:20250520T183000
DTEND;TZID=America/Chicago:20250520T203000
DTSTAMP:20260419T103419
CREATED:20240228T202135Z
LAST-MODIFIED:20250319T214150Z
UID:10008154-1747765800-1747773000@locustgrove.com
SUMMARY:Scout Meetings
DESCRIPTION:
URL:https://locustgrove.com/event/scout-meeetings/2025-05-20/
LOCATION:Locust Grove Baptist Church\, 171 County Lake Road\, New Market\, AL\, 35761\, United States
CATEGORIES:Community
ORGANIZER;CN="Locust Grove":MAILTO:hello@locustgrove.com
END:VEVENT
BEGIN:VEVENT
DTSTART;TZID=America/Chicago:20250522T090000
DTEND;TZID=America/Chicago:20250522T100000
DTSTAMP:20260419T103419
CREATED:20240202T183827Z
LAST-MODIFIED:20250319T214426Z
UID:10007324-1747904400-1747908000@locustgrove.com
SUMMARY:Steady for Life
DESCRIPTION:Steady for Life’s classes are designed to improve the strength and balance of a person. It helps increase flexibility while diminishing the risk of falling. These classes promote confidence in graceful aging. The classes are $25.00 a month.  This class meets in the gym on Tuesdays and Thursdays from 9-10 AM.
URL:https://locustgrove.com/event/steady-for-life/2025-05-22/
LOCATION:Locust Grove Baptist Church\, 171 County Lake Road\, New Market\, AL\, 35761\, United States
CATEGORIES:Community,Senior Adult Ministry,Steady for Life
ORGANIZER;CN="Locust Grove":MAILTO:hello@locustgrove.com
END:VEVENT
BEGIN:VEVENT
DTSTART;TZID=America/Chicago:20250527T090000
DTEND;TZID=America/Chicago:20250527T100000
DTSTAMP:20260419T103419
CREATED:20240202T183827Z
LAST-MODIFIED:20250319T214426Z
UID:10007325-1748336400-1748340000@locustgrove.com
SUMMARY:Steady for Life
DESCRIPTION:Steady for Life’s classes are designed to improve the strength and balance of a person. It helps increase flexibility while diminishing the risk of falling. These classes promote confidence in graceful aging. The classes are $25.00 a month.  This class meets in the gym on Tuesdays and Thursdays from 9-10 AM.
URL:https://locustgrove.com/event/steady-for-life/2025-05-27/
LOCATION:Locust Grove Baptist Church\, 171 County Lake Road\, New Market\, AL\, 35761\, United States
CATEGORIES:Community,Senior Adult Ministry,Steady for Life
ORGANIZER;CN="Locust Grove":MAILTO:hello@locustgrove.com
END:VEVENT
BEGIN:VEVENT
DTSTART;TZID=America/Chicago:20250527T183000
DTEND;TZID=America/Chicago:20250527T203000
DTSTAMP:20260419T103419
CREATED:20240228T202135Z
LAST-MODIFIED:20250319T214150Z
UID:10008155-1748370600-1748377800@locustgrove.com
SUMMARY:Scout Meetings
DESCRIPTION:
URL:https://locustgrove.com/event/scout-meeetings/2025-05-27/
LOCATION:Locust Grove Baptist Church\, 171 County Lake Road\, New Market\, AL\, 35761\, United States
CATEGORIES:Community
ORGANIZER;CN="Locust Grove":MAILTO:hello@locustgrove.com
END:VEVENT
END:VCALENDAR